BEGIN:VCALENDAR
VERSION:2.0
PRODID:-//Manual Therapy - ECPv6.15.20//NONSGML v1.0//EN
CALSCALE:GREGORIAN
METHOD:PUBLISH
X-ORIGINAL-URL:https://manualtherapy.gr
X-WR-CALDESC:Events for Manual Therapy
REFRESH-INTERVAL;VALUE=DURATION:PT1H
X-Robots-Tag:noindex
X-PUBLISHED-TTL:PT1H
BEGIN:VTIMEZONE
TZID:Europe/Athens
BEGIN:DAYLIGHT
TZOFFSETFROM:+0200
TZOFFSETTO:+0300
TZNAME:EEST
DTSTART:20230326T010000
END:DAYLIGHT
BEGIN:STANDARD
TZOFFSETFROM:+0300
TZOFFSETTO:+0200
TZNAME:EET
DTSTART:20231029T010000
END:STANDARD
BEGIN:DAYLIGHT
TZOFFSETFROM:+0200
TZOFFSETTO:+0300
TZNAME:EEST
DTSTART:20240331T010000
END:DAYLIGHT
BEGIN:STANDARD
TZOFFSETFROM:+0300
TZOFFSETTO:+0200
TZNAME:EET
DTSTART:20241027T010000
END:STANDARD
BEGIN:DAYLIGHT
TZOFFSETFROM:+0200
TZOFFSETTO:+0300
TZNAME:EEST
DTSTART:20250330T010000
END:DAYLIGHT
BEGIN:STANDARD
TZOFFSETFROM:+0300
TZOFFSETTO:+0200
TZNAME:EET
DTSTART:20251026T010000
END:STANDARD
BEGIN:DAYLIGHT
TZOFFSETFROM:+0200
TZOFFSETTO:+0300
TZNAME:EEST
DTSTART:20260329T010000
END:DAYLIGHT
BEGIN:STANDARD
TZOFFSETFROM:+0300
TZOFFSETTO:+0200
TZNAME:EET
DTSTART:20261025T010000
END:STANDARD
END:VTIMEZONE
BEGIN:VEVENT
DTSTART;VALUE=DATE:20250920
DTEND;VALUE=DATE:20250922
DTSTAMP:20260425T220949
CREATED:20250317T152746Z
LAST-MODIFIED:20250317T152746Z
UID:7869-1758326400-1758499199@manualtherapy.gr
SUMMARY:ΣΕΜΙΝΑΡΙΟ ΑΚΤΙΝΟΛΟΓΙΑΣ-ΟΡΘΟΠΕΔΙΚΗΣ
DESCRIPTION:ΣΕΜΙΝΑΡΙΟ ΑΚΤΙΝΟΛΟΓΙΑΣ-ΟΡΘΟΠΕΔΙΚΗΣ
URL:https://manualtherapy.gr/events/seminario-aktinologias-orthopedikis/
LOCATION:Θεσσαλονίκη\, 26ης Οκτωβρίου 86\, Θεσσαλονίκη\, 54627\, Greece
CATEGORIES:Θεσσαλονίκη
ATTACH;FMTTYPE=image/jpeg:https://manualtherapy.gr/wp-content/uploads/2021/01/Eisigites.jpg
END:VEVENT
BEGIN:VEVENT
DTSTART;VALUE=DATE:20250917
DTEND;VALUE=DATE:20250920
DTSTAMP:20260425T220949
CREATED:20250317T152558Z
LAST-MODIFIED:20250317T152645Z
UID:7865-1758067200-1758326399@manualtherapy.gr
SUMMARY:ΣΕΜΙΝΑΡΙΟ ΧΕΙΡΙΣΜΩΝ ΑΚΡΩΝ & ΘΜΣΣ (ΜΑΝΙΡ I & ΙΙ)
DESCRIPTION:ΣΕΜΙΝΑΡΙΟ ΧΕΙΡΙΣΜΩΝ ΑΚΡΩΝ & ΘΜΣΣ (ΜΑΝΙΡ I & ΙΙ)
URL:https://manualtherapy.gr/events/seminario-cheirismon-akron-thmss-manir-i-ii/
LOCATION:Θεσσαλονίκη\, 26ης Οκτωβρίου 86\, Θεσσαλονίκη\, 54627\, Greece
CATEGORIES:Θεσσαλονίκη
ATTACH;FMTTYPE=image/jpeg:https://manualtherapy.gr/wp-content/uploads/2018/08/Events-Demo-1.jpg
END:VEVENT
BEGIN:VEVENT
DTSTART;VALUE=DATE:20250913
DTEND;VALUE=DATE:20250915
DTSTAMP:20260425T220949
CREATED:20250317T152159Z
LAST-MODIFIED:20250317T152159Z
UID:7859-1757721600-1757894399@manualtherapy.gr
SUMMARY:ΣΕΜΙΝΑΡΙΟ ΜΕΘΟΔΟΛΟΓΙΑ ΕΡΕΥΝΑΣ
DESCRIPTION:ΣΕΜΙΝΑΡΙΟ ΜΕΘΟΔΟΛΟΓΙΑ ΕΡΕΥΝΑΣ
URL:https://manualtherapy.gr/events/seminario-methodologia-ereynas-9/
LOCATION:Θεσσαλονίκη\, 26ης Οκτωβρίου 86\, Θεσσαλονίκη\, 54627\, Greece
CATEGORIES:Θεσσαλονίκη
ATTACH;FMTTYPE=image/jpeg:https://manualtherapy.gr/wp-content/uploads/2018/08/Events-Demo-1.jpg
END:VEVENT
BEGIN:VEVENT
DTSTART;VALUE=DATE:20250719
DTEND;VALUE=DATE:20250721
DTSTAMP:20260425T220949
CREATED:20250317T151749Z
LAST-MODIFIED:20250317T151749Z
UID:7851-1752883200-1753055999@manualtherapy.gr
SUMMARY:ΣΕΜΙΝΑΡΙΟ ΚΛΙΝΙΚΟΥ ΣΥΛΛΟΓΙΣΜΟΥ
DESCRIPTION:ΣΕΜΙΝΑΡΙΟ ΚΛΙΝΙΚΟΥ ΣΥΛΛΟΓΙΣΜΟΥ
URL:https://manualtherapy.gr/events/seminario-klinikoy-syllogismoy-4/
LOCATION:Θεσσαλονίκη\, 26ης Οκτωβρίου 86\, Θεσσαλονίκη\, 54627\, Greece
CATEGORIES:Θεσσαλονίκη
ATTACH;FMTTYPE=image/jpeg:https://manualtherapy.gr/wp-content/uploads/2018/08/Events-Demo-1.jpg
END:VEVENT
BEGIN:VEVENT
DTSTART;VALUE=DATE:20250712
DTEND;VALUE=DATE:20250713
DTSTAMP:20260425T220949
CREATED:20250317T151521Z
LAST-MODIFIED:20250317T151521Z
UID:7847-1752278400-1752364799@manualtherapy.gr
SUMMARY:ΕΞΕΤΑΣΕΙΣ ΙΙ
DESCRIPTION:ΕΞΕΤΑΣΕΙΣ ΙΙ
URL:https://manualtherapy.gr/events/exetaseis-ii-2/
LOCATION:Θεσσαλονίκη\, 26ης Οκτωβρίου 86\, Θεσσαλονίκη\, 54627\, Greece
CATEGORIES:Θεσσαλονίκη
ATTACH;FMTTYPE=image/jpeg:https://manualtherapy.gr/wp-content/uploads/2020/12/Event-Demo-2.jpg
END:VEVENT
BEGIN:VEVENT
DTSTART;VALUE=DATE:20250711
DTEND;VALUE=DATE:20250714
DTSTAMP:20260425T220949
CREATED:20250317T151438Z
LAST-MODIFIED:20250317T151438Z
UID:7845-1752192000-1752451199@manualtherapy.gr
SUMMARY:2ο 3ΗΜΕΡΟ ΒΑΣΙΚΟ ΕΙΣΑΓΩΓΙΚΟ ΣΕΜΙΝΑΡΙΟ ΚΑΙ ΚΑΤΩ ΑΚΡΟ
DESCRIPTION:2ο 3ΗΜΕΡΟ ΒΑΣΙΚΟ ΕΙΣΑΓΩΓΙΚΟ ΣΕΜΙΝΑΡΙΟ ΚΑΙ ΚΑΤΩ ΑΚΡΟ
URL:https://manualtherapy.gr/events/2o-3imero-vasiko-eisagogiko-seminario-kai-kato-akro-8/
LOCATION:Θεσσαλονίκη\, 26ης Οκτωβρίου 86\, Θεσσαλονίκη\, 54627\, Greece
CATEGORIES:Θεσσαλονίκη
ATTACH;FMTTYPE=image/jpeg:https://manualtherapy.gr/wp-content/uploads/2021/01/Eisigites.jpg
END:VEVENT
BEGIN:VEVENT
DTSTART;VALUE=DATE:20250620
DTEND;VALUE=DATE:20250623
DTSTAMP:20260425T220949
CREATED:20250317T150801Z
LAST-MODIFIED:20250317T150801Z
UID:7841-1750377600-1750636799@manualtherapy.gr
SUMMARY:1ο 3ΗΜΕΡΟ ΒΑΣΙΚΟ ΕΙΣΑΓΩΓΙΚΟ ΣΕΜΙΝΑΡΙΟ ΚΑΙ ΚΑΤΩ ΑΚΡΟ
DESCRIPTION:1ο 3ΗΜΕΡΟ ΒΑΣΙΚΟ ΕΙΣΑΓΩΓΙΚΟ ΣΕΜΙΝΑΡΙΟ ΚΑΙ ΚΑΤΩ ΑΚΡΟ
URL:https://manualtherapy.gr/events/1o-3imero-vasiko-eisagogiko-seminario-kai-kato-akro-8/
LOCATION:Θεσσαλονίκη\, 26ης Οκτωβρίου 86\, Θεσσαλονίκη\, 54627\, Greece
CATEGORIES:Θεσσαλονίκη
ATTACH;FMTTYPE=image/jpeg:https://manualtherapy.gr/wp-content/uploads/2021/01/Eisigites.jpg
END:VEVENT
BEGIN:VEVENT
DTSTART;VALUE=DATE:20250614
DTEND;VALUE=DATE:20250616
DTSTAMP:20260425T220949
CREATED:20250317T150426Z
LAST-MODIFIED:20250317T150426Z
UID:7839-1749859200-1750031999@manualtherapy.gr
SUMMARY:ΣΕΜΙΝΑΡΙΟ ΝΕΥΡΟΛΟΓΙΑΣ
DESCRIPTION:ΣΕΜΙΝΑΡΙΟ ΝΕΥΡΟΛΟΓΙΑΣ
URL:https://manualtherapy.gr/events/seminario-neyrologias/
LOCATION:Θεσσαλονίκη\, 26ης Οκτωβρίου 86\, Θεσσαλονίκη\, 54627\, Greece
CATEGORIES:Θεσσαλονίκη
ATTACH;FMTTYPE=image/jpeg:https://manualtherapy.gr/wp-content/uploads/2021/01/DSC_0032.jpg
END:VEVENT
BEGIN:VEVENT
DTSTART;VALUE=DATE:20250531
DTEND;VALUE=DATE:20250601
DTSTAMP:20260425T220949
CREATED:20250317T145808Z
LAST-MODIFIED:20250317T145808Z
UID:7835-1748649600-1748735999@manualtherapy.gr
SUMMARY:ΕΞΕΤΑΣΕΙΣ Ι
DESCRIPTION:ΕΞΕΤΑΣΕΙΣ Ι
URL:https://manualtherapy.gr/events/exetaseis-i-7/
LOCATION:Θεσσαλονίκη\, 26ης Οκτωβρίου 86\, Θεσσαλονίκη\, 54627\, Greece
CATEGORIES:Θεσσαλονίκη
ATTACH;FMTTYPE=image/jpeg:https://manualtherapy.gr/wp-content/uploads/2020/12/Event-Demo-2.jpg
END:VEVENT
BEGIN:VEVENT
DTSTART;VALUE=DATE:20250515
DTEND;VALUE=DATE:20250519
DTSTAMP:20260425T220949
CREATED:20241011T105130Z
LAST-MODIFIED:20250317T145446Z
UID:7800-1747267200-1747612799@manualtherapy.gr
SUMMARY:SUPERVISION I
DESCRIPTION:SUPERVISIONI
URL:https://manualtherapy.gr/events/supervision-i-2-2/
LOCATION:Θεσσαλονίκη\, 26ης Οκτωβρίου 86\, Θεσσαλονίκη\, 54627\, Greece
CATEGORIES:Θεσσαλονίκη
ATTACH;FMTTYPE=image/jpeg:https://manualtherapy.gr/wp-content/uploads/2020/12/Event-Demo-2.jpg
END:VEVENT
BEGIN:VEVENT
DTSTART;VALUE=DATE:20250512
DTEND;VALUE=DATE:20250513
DTSTAMP:20260425T220949
CREATED:20250317T145313Z
LAST-MODIFIED:20250317T145313Z
UID:7831-1747008000-1747094399@manualtherapy.gr
SUMMARY:ΣΕΜΙΝΑΡΙΟ ΜΕΘΟΔΟΛΟΓΙΑ ΕΡΕΥΝΑΣ
DESCRIPTION:ΣΕΜΙΝΑΡΙΟ ΜΕΘΟΔΟΛΟΓΙΑ ΕΡΕΥΝΑΣ
URL:https://manualtherapy.gr/events/seminario-methodologia-ereynas-8/
LOCATION:Θεσσαλονίκη\, 26ης Οκτωβρίου 86\, Θεσσαλονίκη\, 54627\, Greece
CATEGORIES:Θεσσαλονίκη
ATTACH;FMTTYPE=image/jpeg:https://manualtherapy.gr/wp-content/uploads/2018/08/Events-Demo-1.jpg
END:VEVENT
BEGIN:VEVENT
DTSTART;VALUE=DATE:20250508
DTEND;VALUE=DATE:20250512
DTSTAMP:20260425T220949
CREATED:20241011T104909Z
LAST-MODIFIED:20241011T104909Z
UID:7791-1746662400-1747007999@manualtherapy.gr
SUMMARY:ΣΕΜΙΝΑΡΙΟ REHABILITATION
DESCRIPTION:ΣΕΜΙΝΑΡΙΟ REHABILITATION
URL:https://manualtherapy.gr/events/seminario-rehabilitation-4/
LOCATION:Θεσσαλονίκη\, 26ης Οκτωβρίου 86\, Θεσσαλονίκη\, 54627\, Greece
CATEGORIES:Θεσσαλονίκη
ATTACH;FMTTYPE=image/jpeg:https://manualtherapy.gr/wp-content/uploads/2020/12/Exams.jpg
END:VEVENT
BEGIN:VEVENT
DTSTART;VALUE=DATE:20250412
DTEND;VALUE=DATE:20250414
DTSTAMP:20260425T220949
CREATED:20241011T104716Z
LAST-MODIFIED:20241011T104716Z
UID:7785-1744416000-1744588799@manualtherapy.gr
SUMMARY:2ο 2ΗΜΕΡΟ ΒΑΣΙΚΟ ΣΕΜΙΝΑΡΙΟ ΑΜΣΣ
DESCRIPTION:2ο 2ΗΜΕΡΟ ΒΑΣΙΚΟ ΣΕΜΙΝΑΡΙΟ ΑΜΣΣ
URL:https://manualtherapy.gr/events/2o-2imero-vasiko-seminario-amss-7/
LOCATION:Θεσσαλονίκη\, 26ης Οκτωβρίου 86\, Θεσσαλονίκη\, 54627\, Greece
CATEGORIES:Θεσσαλονίκη
ATTACH;FMTTYPE=image/jpeg:https://manualtherapy.gr/wp-content/uploads/2018/08/Events-Demo-1.jpg
END:VEVENT
BEGIN:VEVENT
DTSTART;VALUE=DATE:20250307
DTEND;VALUE=DATE:20250310
DTSTAMP:20260425T220949
CREATED:20241011T104315Z
LAST-MODIFIED:20241011T104315Z
UID:7773-1741305600-1741564799@manualtherapy.gr
SUMMARY:1o 3ΗΜΕΡΟ ΒΑΣΙΚΟ ΣΕΜΙΝΑΡΙΟ ΑΜΣΣ
DESCRIPTION:1o 3ΗΜΕΡΟ ΒΑΣΙΚΟ ΣΕΜΙΝΑΡΙΟ ΑΜΣΣ
URL:https://manualtherapy.gr/events/1o-3imero-vasiko-seminario-amss-9/
LOCATION:Θεσσαλονίκη\, 26ης Οκτωβρίου 86\, Θεσσαλονίκη\, 54627\, Greece
CATEGORIES:Θεσσαλονίκη
ATTACH;FMTTYPE=image/jpeg:https://manualtherapy.gr/wp-content/uploads/2018/08/Events-Demo-1.jpg
END:VEVENT
BEGIN:VEVENT
DTSTART;VALUE=DATE:20250215
DTEND;VALUE=DATE:20250217
DTSTAMP:20260425T220949
CREATED:20241011T104227Z
LAST-MODIFIED:20241011T104227Z
UID:7770-1739577600-1739750399@manualtherapy.gr
SUMMARY:2ο 2ΗΜΕΡΟ ΒΑΣΙΚΟ ΣΕΜΙΝΑΡΙΟ ΑDVANCE IΙ
DESCRIPTION:2ο 2ΗΜΕΡΟ ΒΑΣΙΚΟ ΣΕΜΙΝΑΡΙΟ ΑDVANCE IΙ
URL:https://manualtherapy.gr/events/2o-2imero-vasiko-seminario-advance-ii-4/
LOCATION:Θεσσαλονίκη\, 26ης Οκτωβρίου 86\, Θεσσαλονίκη\, 54627\, Greece
CATEGORIES:Θεσσαλονίκη
ATTACH;FMTTYPE=image/jpeg:https://manualtherapy.gr/wp-content/uploads/2021/01/DSC_0032.jpg
END:VEVENT
BEGIN:VEVENT
DTSTART;VALUE=DATE:20250117
DTEND;VALUE=DATE:20250120
DTSTAMP:20260425T220949
CREATED:20241011T103856Z
LAST-MODIFIED:20241011T103856Z
UID:7759-1737072000-1737331199@manualtherapy.gr
SUMMARY:1o 3ΗΜΕΡΟ ΒΑΣΙΚΟ ΣΕΜΙΝΑΡΙΟ ΑDVANCE IΙ
DESCRIPTION:1o 3ΗΜΕΡΟ ΒΑΣΙΚΟ ΣΕΜΙΝΑΡΙΟ ΑDVANCE IΙ
URL:https://manualtherapy.gr/events/1o-3imero-vasiko-seminario-advance-ii-4/
LOCATION:Θεσσαλονίκη\, 26ης Οκτωβρίου 86\, Θεσσαλονίκη\, 54627\, Greece
CATEGORIES:Θεσσαλονίκη
ATTACH;FMTTYPE=image/jpeg:https://manualtherapy.gr/wp-content/uploads/2020/12/Event-Demo-2.jpg
END:VEVENT
BEGIN:VEVENT
DTSTART;VALUE=DATE:20250110
DTEND;VALUE=DATE:20250113
DTSTAMP:20260425T220949
CREATED:20241011T103422Z
LAST-MODIFIED:20241011T103422Z
UID:7751-1736467200-1736726399@manualtherapy.gr
SUMMARY:2ο 3ΗΜΕΡΟ ΒΑΣΙΚΟ ΣΕΜΙΝΑΡΙΟ ΟΜΣΣ
DESCRIPTION:2ο 3ΗΜΕΡΟ ΒΑΣΙΚΟ ΣΕΜΙΝΑΡΙΟ ΟΜΣΣ
URL:https://manualtherapy.gr/events/2o-3imero-vasiko-seminario-omss-9/
LOCATION:Θεσσαλονίκη\, 26ης Οκτωβρίου 86\, Θεσσαλονίκη\, 54627\, Greece
CATEGORIES:Θεσσαλονίκη
ATTACH;FMTTYPE=image/jpeg:https://manualtherapy.gr/wp-content/uploads/2020/12/Exams.jpg
END:VEVENT
BEGIN:VEVENT
DTSTART;VALUE=DATE:20241206
DTEND;VALUE=DATE:20241209
DTSTAMP:20260425T220949
CREATED:20240307T121011Z
LAST-MODIFIED:20240307T121011Z
UID:7711-1733443200-1733702399@manualtherapy.gr
SUMMARY:1ο 3ΗΜΕΡΟ ΒΑΣΙΚΟ ΣΕΜΙΝΑΡΙΟ ΟΜΣΣ
DESCRIPTION:1ο 3ΗΜΕΡΟ ΒΑΣΙΚΟ ΣΕΜΙΝΑΡΙΟ ΟΜΣΣ
URL:https://manualtherapy.gr/events/1o-3imero-vasiko-seminario-omss-thess/
LOCATION:Θεσσαλονίκη\, 26ης Οκτωβρίου 86\, Θεσσαλονίκη\, 54627\, Greece
CATEGORIES:Θεσσαλονίκη
ATTACH;FMTTYPE=image/jpeg:https://manualtherapy.gr/wp-content/uploads/2018/08/Events-Demo-1.jpg
END:VEVENT
BEGIN:VEVENT
DTSTART;VALUE=DATE:20241201
DTEND;VALUE=DATE:20241202
DTSTAMP:20260425T220949
CREATED:20240307T120853Z
LAST-MODIFIED:20240307T120853Z
UID:7709-1733011200-1733097599@manualtherapy.gr
SUMMARY:ΣΕΜΙΝΑΡΙΟ ΠΡΩΤΕΣ ΒΟΗΘΕΙΕΣ
DESCRIPTION:ΣΕΜΙΝΑΡΙΟ ΠΡΩΤΕΣ ΒΟΗΘΕΙΕΣ
URL:https://manualtherapy.gr/events/seminario-protes-voitheies-thess/
LOCATION:Θεσσαλονίκη\, 26ης Οκτωβρίου 86\, Θεσσαλονίκη\, 54627\, Greece
CATEGORIES:Θεσσαλονίκη
ATTACH;FMTTYPE=image/jpeg:https://manualtherapy.gr/wp-content/uploads/2020/12/Event-Demo-2.jpg
END:VEVENT
BEGIN:VEVENT
DTSTART;VALUE=DATE:20241128
DTEND;VALUE=DATE:20241201
DTSTAMP:20260425T220949
CREATED:20240307T120801Z
LAST-MODIFIED:20240307T120801Z
UID:7707-1732752000-1733011199@manualtherapy.gr
SUMMARY:ΣΕΜΙΝΑΡΙΟ ΑΘΛΗΤΙΚΗΣ ΦΥΣΙΚΟΘΕΡΑΠΕΙΑΣ
DESCRIPTION:ΣΕΜΙΝΑΡΙΟ ΑΘΛΗΤΙΚΗΣ ΦΥΣΙΚΟΘΕΡΑΠΕΙΑΣ
URL:https://manualtherapy.gr/events/seminario-athlitikis-fysikotherapeias-thess/
LOCATION:Θεσσαλονίκη\, 26ης Οκτωβρίου 86\, Θεσσαλονίκη\, 54627\, Greece
CATEGORIES:Θεσσαλονίκη
ATTACH;FMTTYPE=image/jpeg:https://manualtherapy.gr/wp-content/uploads/2020/12/Exams.jpg
END:VEVENT
BEGIN:VEVENT
DTSTART;VALUE=DATE:20241116
DTEND;VALUE=DATE:20241118
DTSTAMP:20260425T220949
CREATED:20240307T120702Z
LAST-MODIFIED:20240307T120702Z
UID:7704-1731715200-1731887999@manualtherapy.gr
SUMMARY:2ο 2ΗΜΕΡΟ ΣΕΜΙΝΑΡΙΟ ΑDVANCE I
DESCRIPTION:2ο 2ΗΜΕΡΟ ΣΕΜΙΝΑΡΙΟ ΑDVANCE I
URL:https://manualtherapy.gr/events/2o-2imero-seminario-advance-i-thess/
LOCATION:Θεσσαλονίκη\, 26ης Οκτωβρίου 86\, Θεσσαλονίκη\, 54627\, Greece
CATEGORIES:Θεσσαλονίκη
ATTACH;FMTTYPE=image/jpeg:https://manualtherapy.gr/wp-content/uploads/2018/08/Events-Demo-1.jpg
END:VEVENT
BEGIN:VEVENT
DTSTART;VALUE=DATE:20241018
DTEND;VALUE=DATE:20241021
DTSTAMP:20260425T220949
CREATED:20240307T120357Z
LAST-MODIFIED:20240307T120357Z
UID:7695-1729209600-1729468799@manualtherapy.gr
SUMMARY:1o 3ΗΜΕΡΟ ΣΕΜΙΝΑΡΙΟ ΑDVANCE I
DESCRIPTION:1o 3ΗΜΕΡΟ ΣΕΜΙΝΑΡΙΟ ΑDVANCE I
URL:https://manualtherapy.gr/events/1o-3imero-seminario-advance-i-thess/
LOCATION:Θεσσαλονίκη\, 26ης Οκτωβρίου 86\, Θεσσαλονίκη\, 54627\, Greece
CATEGORIES:Θεσσαλονίκη
ATTACH;FMTTYPE=image/jpeg:https://manualtherapy.gr/wp-content/uploads/2020/12/Event-Demo-2.jpg
END:VEVENT
BEGIN:VEVENT
DTSTART;VALUE=DATE:20241012
DTEND;VALUE=DATE:20241014
DTSTAMP:20260425T220949
CREATED:20240307T120231Z
LAST-MODIFIED:20240307T120231Z
UID:7692-1728691200-1728863999@manualtherapy.gr
SUMMARY:2ο 2ΗΜΕΡΟ ΣΕΜΙΝΑΡΙΟ ΑΝΩ ΑΚΡΟ
DESCRIPTION:2ο 2ΗΜΕΡΟ ΣΕΜΙΝΑΡΙΟ ΑΝΩ ΑΚΡΟ
URL:https://manualtherapy.gr/events/2o-2imero-seminario-ano-akro-thess/
LOCATION:Θεσσαλονίκη\, 26ης Οκτωβρίου 86\, Θεσσαλονίκη\, 54627\, Greece
CATEGORIES:Θεσσαλονίκη
ATTACH;FMTTYPE=image/jpeg:https://manualtherapy.gr/wp-content/uploads/2020/12/Exams.jpg
END:VEVENT
BEGIN:VEVENT
DTSTART;VALUE=DATE:20240928
DTEND;VALUE=DATE:20240930
DTSTAMP:20260425T220949
CREATED:20240307T120008Z
LAST-MODIFIED:20240307T120008Z
UID:7687-1727481600-1727654399@manualtherapy.gr
SUMMARY:ΣΕΜΙΝΑΡΙΟ ΑΚΤΙΝΟΛΟΓΙΑΣ-ΟΡΘΟΠΕΔΙΚΗΣ
DESCRIPTION:ΣΕΜΙΝΑΡΙΟ ΑΚΤΙΝΟΛΟΓΙΑΣ-ΟΡΘΟΠΕΔΙΚΗΣ
URL:https://manualtherapy.gr/events/seminario-aktinologias-orthopedikis-thess/
LOCATION:Θεσσαλονίκη\, 26ης Οκτωβρίου 86\, Θεσσαλονίκη\, 54627\, Greece
CATEGORIES:Θεσσαλονίκη
ATTACH;FMTTYPE=image/jpeg:https://manualtherapy.gr/wp-content/uploads/2018/08/Events-Demo-1.jpg
END:VEVENT
BEGIN:VEVENT
DTSTART;VALUE=DATE:20240925
DTEND;VALUE=DATE:20240928
DTSTAMP:20260425T220949
CREATED:20240307T115724Z
LAST-MODIFIED:20240307T115724Z
UID:7684-1727222400-1727481599@manualtherapy.gr
SUMMARY:ΣΕΜΙΝΑΡΙΟ ΧΕΙΡΙΣΜΟΙ ΑΚΡΩΝ & ΘΜΣΣ  (ΜΑΝΙΡ I & ΙΙ)
DESCRIPTION:ΣΕΜΙΝΑΡΙΟ ΧΕΙΡΙΣΜΟΙ ΑΚΡΩΝ & ΘΜΣΣ  (ΜΑΝΙΡ I & ΙΙ)
URL:https://manualtherapy.gr/events/seminario-cheirismoi-akron-thmss-manir-i-ii-thess/
LOCATION:Θεσσαλονίκη\, 26ης Οκτωβρίου 86\, Θεσσαλονίκη\, 54627\, Greece
CATEGORIES:Θεσσαλονίκη
ATTACH;FMTTYPE=image/jpeg:https://manualtherapy.gr/wp-content/uploads/2020/12/Event-Demo-2.jpg
END:VEVENT
BEGIN:VEVENT
DTSTART;VALUE=DATE:20240914
DTEND;VALUE=DATE:20240916
DTSTAMP:20260425T220949
CREATED:20240307T115534Z
LAST-MODIFIED:20240307T115534Z
UID:7682-1726272000-1726444799@manualtherapy.gr
SUMMARY:ΣΕΜΙΝΑΡΙΟ ΜΕΘΟΔΟΛΟΓΙΑ ΕΡΕΥΝΑΣ
DESCRIPTION:ΣΕΜΙΝΑΡΙΟ ΜΕΘΟΔΟΛΟΓΙΑ ΕΡΕΥΝΑΣ
URL:https://manualtherapy.gr/events/seminario-methodologia-ereynas-thess/
LOCATION:Θεσσαλονίκη\, 26ης Οκτωβρίου 86\, Θεσσαλονίκη\, 54627\, Greece
CATEGORIES:Θεσσαλονίκη
ATTACH;FMTTYPE=image/jpeg:https://manualtherapy.gr/wp-content/uploads/2020/12/Event-Demo-3.jpg
END:VEVENT
BEGIN:VEVENT
DTSTART;VALUE=DATE:20240906
DTEND;VALUE=DATE:20240909
DTSTAMP:20260425T220949
CREATED:20240307T115206Z
LAST-MODIFIED:20240307T115206Z
UID:7674-1725580800-1725839999@manualtherapy.gr
SUMMARY:1o 3ΗΜΕΡΟ ΣΕΜΙΝΑΡΙΟ ΑΝΩ ΑΚΡΟ
DESCRIPTION:1o 3ΗΜΕΡΟ ΣΕΜΙΝΑΡΙΟ ΑΝΩ ΑΚΡΟ
URL:https://manualtherapy.gr/events/1o-3imero-seminario-ano-akro-thess/
LOCATION:Θεσσαλονίκη\, 26ης Οκτωβρίου 86\, Θεσσαλονίκη\, 54627\, Greece
CATEGORIES:Θεσσαλονίκη
ATTACH;FMTTYPE=image/jpeg:https://manualtherapy.gr/wp-content/uploads/2020/12/Exams.jpg
END:VEVENT
BEGIN:VEVENT
DTSTART;VALUE=DATE:20240720
DTEND;VALUE=DATE:20240722
DTSTAMP:20260425T220949
CREATED:20231005T090330Z
LAST-MODIFIED:20231005T090330Z
UID:7632-1721433600-1721606399@manualtherapy.gr
SUMMARY:ΣΕΜΙΝΑΡΙΟ ΚΛΙΝΙΚΟΥ ΣΥΛΛΟΓΙΣΜΟΥ
DESCRIPTION:ΣΕΜΙΝΑΡΙΟ ΚΛΙΝΙΚΟΥ ΣΥΛΛΟΓΙΣΜΟΥ
URL:https://manualtherapy.gr/events/seminario-klinikoy-syllogismoy-3/
LOCATION:Θεσσαλονίκη\, 26ης Οκτωβρίου 86\, Θεσσαλονίκη\, 54627\, Greece
CATEGORIES:Θεσσαλονίκη
ATTACH;FMTTYPE=image/jpeg:https://manualtherapy.gr/wp-content/uploads/2021/01/DSC_0032.jpg
END:VEVENT
BEGIN:VEVENT
DTSTART;VALUE=DATE:20240712
DTEND;VALUE=DATE:20240715
DTSTAMP:20260425T220949
CREATED:20231005T090050Z
LAST-MODIFIED:20231005T090050Z
UID:7626-1720742400-1721001599@manualtherapy.gr
SUMMARY:2ο 3ΗΜΕΡΟ ΒΑΣΙΚΟ ΕΙΣΑΓΩΓΙΚΟ ΣΕΜΙΝΑΡΙΟ ΚΑΙ ΚΑΤΩ ΑΚΡΟ
DESCRIPTION:2ο 3ΗΜΕΡΟ ΒΑΣΙΚΟ ΕΙΣΑΓΩΓΙΚΟ ΣΕΜΙΝΑΡΙΟ ΚΑΙ ΚΑΤΩ ΑΚΡΟ
URL:https://manualtherapy.gr/events/2o-3imero-vasiko-eisagogiko-seminario-kai-kato-akro-6/
LOCATION:Θεσσαλονίκη\, 26ης Οκτωβρίου 86\, Θεσσαλονίκη\, 54627\, Greece
CATEGORIES:Θεσσαλονίκη
ATTACH;FMTTYPE=image/jpeg:https://manualtherapy.gr/wp-content/uploads/2020/12/Event-Demo-2.jpg
END:VEVENT
BEGIN:VEVENT
DTSTART;VALUE=DATE:20240706
DTEND;VALUE=DATE:20240707
DTSTAMP:20260425T220949
CREATED:20240307T114752Z
LAST-MODIFIED:20240307T114752Z
UID:7669-1720224000-1720310399@manualtherapy.gr
SUMMARY:ΕΞΕΤΑΣΕΙΣ ΙΙ
DESCRIPTION:ΕΞΕΤΑΣΕΙΣ ΙΙ
URL:https://manualtherapy.gr/events/exetaseis-ii-thess/
LOCATION:Θεσσαλονίκη\, 26ης Οκτωβρίου 86\, Θεσσαλονίκη\, 54627\, Greece
CATEGORIES:Θεσσαλονίκη
ATTACH;FMTTYPE=image/jpeg:https://manualtherapy.gr/wp-content/uploads/2018/08/Events-Demo-1.jpg
END:VEVENT
END:VCALENDAR