BEGIN:VCALENDAR
VERSION:2.0
PRODID:-//Manual Therapy - ECPv6.15.20//NONSGML v1.0//EN
CALSCALE:GREGORIAN
METHOD:PUBLISH
X-WR-CALNAME:Manual Therapy
X-ORIGINAL-URL:https://manualtherapy.gr
X-WR-CALDESC:Events for Manual Therapy
REFRESH-INTERVAL;VALUE=DURATION:PT1H
X-Robots-Tag:noindex
X-PUBLISHED-TTL:PT1H
BEGIN:VTIMEZONE
TZID:Europe/Athens
BEGIN:DAYLIGHT
TZOFFSETFROM:+0200
TZOFFSETTO:+0300
TZNAME:EEST
DTSTART:20250330T010000
END:DAYLIGHT
BEGIN:STANDARD
TZOFFSETFROM:+0300
TZOFFSETTO:+0200
TZNAME:EET
DTSTART:20251026T010000
END:STANDARD
BEGIN:DAYLIGHT
TZOFFSETFROM:+0200
TZOFFSETTO:+0300
TZNAME:EEST
DTSTART:20260329T010000
END:DAYLIGHT
BEGIN:STANDARD
TZOFFSETFROM:+0300
TZOFFSETTO:+0200
TZNAME:EET
DTSTART:20261025T010000
END:STANDARD
BEGIN:DAYLIGHT
TZOFFSETFROM:+0200
TZOFFSETTO:+0300
TZNAME:EEST
DTSTART:20270328T010000
END:DAYLIGHT
BEGIN:STANDARD
TZOFFSETFROM:+0300
TZOFFSETTO:+0200
TZNAME:EET
DTSTART:20271031T010000
END:STANDARD
END:VTIMEZONE
BEGIN:VEVENT
DTSTART;VALUE=DATE:20260507
DTEND;VALUE=DATE:20260511
DTSTAMP:20260425T185818
CREATED:20250924T093742Z
LAST-MODIFIED:20250924T093742Z
UID:7972-1778112000-1778457599@manualtherapy.gr
SUMMARY:G24 - ΣΕΜΙΝΑΡΙΟ REHABILITATION
DESCRIPTION:G24 – ΣΕΜΙΝΑΡΙΟ REHABILITATION
URL:https://manualtherapy.gr/events/g24-seminario-rehabilitation/
LOCATION:Θεσσαλονίκη\, 26ης Οκτωβρίου 86\, Θεσσαλονίκη\, 54627\, Greece
CATEGORIES:Θεσσαλονίκη
ATTACH;FMTTYPE=image/jpeg:https://manualtherapy.gr/wp-content/uploads/2020/12/Exams.jpg
END:VEVENT
BEGIN:VEVENT
DTSTART;VALUE=DATE:20260511
DTEND;VALUE=DATE:20260512
DTSTAMP:20260425T185818
CREATED:20250924T093907Z
LAST-MODIFIED:20250924T093907Z
UID:7971-1778457600-1778543999@manualtherapy.gr
SUMMARY:G24 - ΣΕΜΙΝΑΡΙΟ ΜΕΘΟΔΟΛΟΓΙΑ ΕΡΕΥΝΑΣ
DESCRIPTION:G24 – ΣΕΜΙΝΑΡΙΟ ΜΕΘΟΔΟΛΟΓΙΑ ΕΡΕΥΝΑΣ
URL:https://manualtherapy.gr/events/g24-seminario-methodologia-ereynas/
LOCATION:Θεσσαλονίκη\, 26ης Οκτωβρίου 86\, Θεσσαλονίκη\, 54627\, Greece
CATEGORIES:Θεσσαλονίκη
ATTACH;FMTTYPE=image/jpeg:https://manualtherapy.gr/wp-content/uploads/2018/08/Events-Demo-1.jpg
END:VEVENT
BEGIN:VEVENT
DTSTART;VALUE=DATE:20260514
DTEND;VALUE=DATE:20260518
DTSTAMP:20260425T185818
CREATED:20250924T094022Z
LAST-MODIFIED:20250924T094022Z
UID:7969-1778716800-1779062399@manualtherapy.gr
SUMMARY:G25 - SUPERVISION I
DESCRIPTION:G25 – SUPERVISION I
URL:https://manualtherapy.gr/events/g25-supervision-i-2/
LOCATION:Θεσσαλονίκη\, 26ης Οκτωβρίου 86\, Θεσσαλονίκη\, 54627\, Greece
CATEGORIES:Θεσσαλονίκη
ATTACH;FMTTYPE=image/jpeg:https://manualtherapy.gr/wp-content/uploads/2020/12/Event-Demo-2.jpg
END:VEVENT
BEGIN:VEVENT
DTSTART;VALUE=DATE:20260530
DTEND;VALUE=DATE:20260531
DTSTAMP:20260425T185818
CREATED:20250924T094343Z
LAST-MODIFIED:20250924T094343Z
UID:7980-1780099200-1780185599@manualtherapy.gr
SUMMARY:G25 - ΕΞΕΤΑΣΕΙΣ Ι
DESCRIPTION:G25 – ΕΞΕΤΑΣΕΙΣ Ι
URL:https://manualtherapy.gr/events/g25-exetaseis-i-2/
LOCATION:Θεσσαλονίκη\, 26ης Οκτωβρίου 86\, Θεσσαλονίκη\, 54627\, Greece
CATEGORIES:Θεσσαλονίκη
ATTACH;FMTTYPE=image/jpeg:https://manualtherapy.gr/wp-content/uploads/2020/12/Event-Demo-2.jpg
END:VEVENT
BEGIN:VEVENT
DTSTART;VALUE=DATE:20260613
DTEND;VALUE=DATE:20260615
DTSTAMP:20260425T185818
CREATED:20250924T094718Z
LAST-MODIFIED:20250924T094718Z
UID:7989-1781308800-1781481599@manualtherapy.gr
SUMMARY:G25 - ΣΕΜΙΝΑΡΙΟ ΝΕΥΡΟΛΟΓΙΑΣ
DESCRIPTION:G25 – ΣΕΜΙΝΑΡΙΟ ΝΕΥΡΟΛΟΓΙΑΣ
URL:https://manualtherapy.gr/events/g25-seminario-neyrologias/
LOCATION:Θεσσαλονίκη\, 26ης Οκτωβρίου 86\, Θεσσαλονίκη\, 54627\, Greece
CATEGORIES:Θεσσαλονίκη
ATTACH;FMTTYPE=image/jpeg:https://manualtherapy.gr/wp-content/uploads/2021/01/DSC_0032.jpg
END:VEVENT
BEGIN:VEVENT
DTSTART;VALUE=DATE:20260619
DTEND;VALUE=DATE:20260622
DTSTAMP:20260425T185818
CREATED:20250924T094601Z
LAST-MODIFIED:20250924T094601Z
UID:7985-1781827200-1782086399@manualtherapy.gr
SUMMARY:G26 - 1ο 3ΗΜΕΡΟ ΒΑΣΙΚΟ ΕΙΣΑΓΩΓΙΚΟ ΣΕΜΙΝΑΡΙΟ ΚΑΙ ΚΑΤΩ ΑΚΡΟ
DESCRIPTION:G26 – 1ο 3ΗΜΕΡΟ ΒΑΣΙΚΟ ΕΙΣΑΓΩΓΙΚΟ ΣΕΜΙΝΑΡΙΟ ΚΑΙ ΚΑΤΩ ΑΚΡΟ
URL:https://manualtherapy.gr/events/g26-1o-3imero-vasiko-eisagogiko-seminario-kai-kato-akro-2/
LOCATION:Θεσσαλονίκη\, 26ης Οκτωβρίου 86\, Θεσσαλονίκη\, 54627\, Greece
CATEGORIES:Θεσσαλονίκη
ATTACH;FMTTYPE=image/jpeg:https://manualtherapy.gr/wp-content/uploads/2021/01/Eisigites.jpg
END:VEVENT
BEGIN:VEVENT
DTSTART;VALUE=DATE:20260704
DTEND;VALUE=DATE:20260705
DTSTAMP:20260425T185818
CREATED:20250924T094913Z
LAST-MODIFIED:20250924T094913Z
UID:7994-1783123200-1783209599@manualtherapy.gr
SUMMARY:G24 - ΕΞΕΤΑΣΕΙΣ ΙΙ
DESCRIPTION:G24 – ΕΞΕΤΑΣΕΙΣ ΙΙ
URL:https://manualtherapy.gr/events/g24-exetaseis-ii-2/
LOCATION:Θεσσαλονίκη\, 26ης Οκτωβρίου 86\, Θεσσαλονίκη\, 54627\, Greece
CATEGORIES:Θεσσαλονίκη
ATTACH;FMTTYPE=image/jpeg:https://manualtherapy.gr/wp-content/uploads/2020/12/Event-Demo-2.jpg
END:VEVENT
BEGIN:VEVENT
DTSTART;VALUE=DATE:20260711
DTEND;VALUE=DATE:20260713
DTSTAMP:20260425T185818
CREATED:20250924T095245Z
LAST-MODIFIED:20250924T095245Z
UID:8000-1783728000-1783900799@manualtherapy.gr
SUMMARY:G25 - ΣΕΜΙΝΑΡΙΟ ΚΛΙΝΙΚΟΣ ΣΥΛΛΟΓΙΣΜΟΣ
DESCRIPTION:G25 – ΣΕΜΙΝΑΡΙΟ ΚΛΙΝΙΚΟΣ ΣΥΛΛΟΓΙΣΜΟΣ
URL:https://manualtherapy.gr/events/g25-seminario-klinikos-syllogismos/
LOCATION:Θεσσαλονίκη\, 26ης Οκτωβρίου 86\, Θεσσαλονίκη\, 54627\, Greece
CATEGORIES:Θεσσαλονίκη
ATTACH;FMTTYPE=image/jpeg:https://manualtherapy.gr/wp-content/uploads/2021/01/DSC_0032.jpg
ORGANIZER;CN="Manual Therapy (%CE%A3%CF%8D%CE%BB%CE%BB%CE%BF%CE%B3%CE%BF%CF%82 %CE%A6%CF%85%CF%83%CE%B9%CE%BA%CE%BF%CE%B8%CE%B5%CF%81%CE%B1%CF%80%CE%B5%CF%85%CF%84%CF%8E%CE%BD %CE%A7%CE%B5%CE%B9%CF%81%CE%BF%CE%B8%CE%B5%CF%81%CE%B1%CF%80%CE%B5%CF%85%CF%84%CF%8E%CE%BD %CE%95%CE%BB%CE%BB%CE%AC%CE%B4%CE%BF%CF%82)":MAILTO:info@manualtherapy.gr
END:VEVENT
BEGIN:VEVENT
DTSTART;VALUE=DATE:20260717
DTEND;VALUE=DATE:20260720
DTSTAMP:20260425T185818
CREATED:20250924T095105Z
LAST-MODIFIED:20250924T095105Z
UID:7996-1784246400-1784505599@manualtherapy.gr
SUMMARY:G26 - 2ο 3ΗΜΕΡΟ ΒΑΣΙΚΟ ΕΙΣΑΓΩΓΙΚΟ ΣΕΜΙΝΑΡΙΟ ΚΑΙ ΚΑΤΩ ΑΚΡΟ
DESCRIPTION:G26 – 2ο 3ΗΜΕΡΟ ΒΑΣΙΚΟ ΕΙΣΑΓΩΓΙΚΟ ΣΕΜΙΝΑΡΙΟ ΚΑΙ ΚΑΤΩ ΑΚΡΟ
URL:https://manualtherapy.gr/events/g26-2o-3imero-vasiko-eisagogiko-seminario-kai-kato-akro-2/
LOCATION:Θεσσαλονίκη\, 26ης Οκτωβρίου 86\, Θεσσαλονίκη\, 54627\, Greece
CATEGORIES:Θεσσαλονίκη
ATTACH;FMTTYPE=image/jpeg:https://manualtherapy.gr/wp-content/uploads/2021/01/Eisigites.jpg
END:VEVENT
BEGIN:VEVENT
DTSTART;VALUE=DATE:20260912
DTEND;VALUE=DATE:20260914
DTSTAMP:20260425T185818
CREATED:20250924T100221Z
LAST-MODIFIED:20250924T100221Z
UID:8007-1789171200-1789343999@manualtherapy.gr
SUMMARY:G25 - ΣΕΜΙΝΑΡΙΟ ΜΕΘΟΔΟΛΟΓΙΑ ΕΡΕΥΝΑΣ
DESCRIPTION:G25 – ΣΕΜΙΝΑΡΙΟ ΜΕΘΟΔΟΛΟΓΙΑ ΕΡΕΥΝΑΣ
URL:https://manualtherapy.gr/events/g25-seminario-methodologia-ereynas/
LOCATION:Θεσσαλονίκη\, 26ης Οκτωβρίου 86\, Θεσσαλονίκη\, 54627\, Greece
CATEGORIES:Θεσσαλονίκη
ATTACH;FMTTYPE=image/jpeg:https://manualtherapy.gr/wp-content/uploads/2018/08/Events-Demo-1.jpg
END:VEVENT
BEGIN:VEVENT
DTSTART;VALUE=DATE:20260916
DTEND;VALUE=DATE:20260919
DTSTAMP:20260425T185818
CREATED:20250924T100416Z
LAST-MODIFIED:20250924T100416Z
UID:8011-1789516800-1789775999@manualtherapy.gr
SUMMARY:G24 - ΣΕΜΙΝΑΡΙΟ ΧΕΙΡΙΣΜΟΙ ΑΚΡΩΝ & ΘΜΣΣ  (ΜΑΝΙΡ I & ΙΙ)
DESCRIPTION:G24 – ΣΕΜΙΝΑΡΙΟ ΧΕΙΡΙΣΜΟΙ ΑΚΡΩΝ & ΘΜΣΣ (ΜΑΝΙΡ I & ΙΙ)
URL:https://manualtherapy.gr/events/g24-seminario-cheirismoi-akron-thmss-manir-i-ii/
LOCATION:Θεσσαλονίκη\, 26ης Οκτωβρίου 86\, Θεσσαλονίκη\, 54627\, Greece
CATEGORIES:Θεσσαλονίκη
ATTACH;FMTTYPE=image/jpeg:https://manualtherapy.gr/wp-content/uploads/2020/12/Event-Demo-2.jpg
END:VEVENT
BEGIN:VEVENT
DTSTART;VALUE=DATE:20260919
DTEND;VALUE=DATE:20260921
DTSTAMP:20260425T185818
CREATED:20250924T100521Z
LAST-MODIFIED:20250924T100521Z
UID:8013-1789776000-1789948799@manualtherapy.gr
SUMMARY:G24 - ΣΕΜΙΝΑΡΙΟ ΑΚΤΙΝΟΛΟΓΙΑΣ-ΟΡΘΟΠΕΔΙΚΗΣ
DESCRIPTION:G24 – ΣΕΜΙΝΑΡΙΟ ΑΚΤΙΝΟΛΟΓΙΑΣ-ΟΡΘΟΠΕΔΙΚΗΣ
URL:https://manualtherapy.gr/events/g24-seminario-aktinologias-orthopedikis/
LOCATION:Θεσσαλονίκη\, 26ης Οκτωβρίου 86\, Θεσσαλονίκη\, 54627\, Greece
CATEGORIES:Θεσσαλονίκη
ATTACH;FMTTYPE=image/jpeg:https://manualtherapy.gr/wp-content/uploads/2021/01/Eisigites.jpg
END:VEVENT
BEGIN:VEVENT
DTSTART;VALUE=DATE:20260925
DTEND;VALUE=DATE:20260928
DTSTAMP:20260425T185818
CREATED:20250924T100024Z
LAST-MODIFIED:20250924T100024Z
UID:7948-1790294400-1790553599@manualtherapy.gr
SUMMARY:G26 - 1o 3ΗΜΕΡΟ ΣΕΜΙΝΑΡΙΟ ΑΝΩ ΑΚΡΟ
DESCRIPTION:G26 – 1o 3ΗΜΕΡΟ ΣΕΜΙΝΑΡΙΟ ΑΝΩ ΑΚΡΟ
URL:https://manualtherapy.gr/events/g26-1o-3imero-seminario-ano-akro/
LOCATION:Θεσσαλονίκη\, 26ης Οκτωβρίου 86\, Θεσσαλονίκη\, 54627\, Greece
CATEGORIES:Θεσσαλονίκη
ATTACH;FMTTYPE=image/jpeg:https://manualtherapy.gr/wp-content/uploads/2021/01/Eisigites.jpg
END:VEVENT
BEGIN:VEVENT
DTSTART;VALUE=DATE:20261010
DTEND;VALUE=DATE:20261016
DTSTAMP:20260425T185818
CREATED:20250924T100930Z
LAST-MODIFIED:20250924T100930Z
UID:8019-1791590400-1792108799@manualtherapy.gr
SUMMARY:ΣΕΜΙΝΑΡΙΟ KINETIC CONTROL-HUMAN MOVEMENT ANALYSIS (HEIDI SINZ)
DESCRIPTION:ΣΕΜΙΝΑΡΙΟ KINETIC CONTROL-HUMAN MOVEMENT ANALYSIS (HEIDI SINZ)
URL:https://manualtherapy.gr/events/seminario-kinetic-control-human-movement-analysis-heidi-sinz/
LOCATION:Θεσσαλονίκη\, 26ης Οκτωβρίου 86\, Θεσσαλονίκη\, 54627\, Greece
CATEGORIES:Θεσσαλονίκη
ATTACH;FMTTYPE=image/jpeg:https://manualtherapy.gr/wp-content/uploads/2021/01/Eisigites.jpg
END:VEVENT
BEGIN:VEVENT
DTSTART;VALUE=DATE:20261017
DTEND;VALUE=DATE:20261019
DTSTAMP:20260425T185818
CREATED:20250924T100816Z
LAST-MODIFIED:20250924T100816Z
UID:8017-1792195200-1792367999@manualtherapy.gr
SUMMARY:G26 - 2ο 2ΗΜΕΡΟ ΣΕΜΙΝΑΡΙΟ ΑΝΩ ΑΚΡΟΥ
DESCRIPTION:G26 – 2ο 2ΗΜΕΡΟ ΣΕΜΙΝΑΡΙΟ ΑΝΩ ΑΚΡΟΥ
URL:https://manualtherapy.gr/events/g26-2o-2imero-seminario-ano-akroy-2/
LOCATION:Θεσσαλονίκη\, 26ης Οκτωβρίου 86\, Θεσσαλονίκη\, 54627\, Greece
CATEGORIES:Θεσσαλονίκη
ATTACH;FMTTYPE=image/jpeg:https://manualtherapy.gr/wp-content/uploads/2021/01/Eisigites.jpg
END:VEVENT
BEGIN:VEVENT
DTSTART;VALUE=DATE:20261113
DTEND;VALUE=DATE:20261116
DTSTAMP:20260425T185818
CREATED:20250924T101126Z
LAST-MODIFIED:20250924T101126Z
UID:8021-1794528000-1794787199@manualtherapy.gr
SUMMARY:G25 - 1o 3ΗΜΕΡΟ ΣΕΜΙΝΑΡΙΟ ΑDVANCE I
DESCRIPTION:G25 – 1o 3ΗΜΕΡΟ ΣΕΜΙΝΑΡΙΟ ΑDVANCE I
URL:https://manualtherapy.gr/events/g25-1o-3imero-seminario-advance-i/
LOCATION:Θεσσαλονίκη\, 26ης Οκτωβρίου 86\, Θεσσαλονίκη\, 54627\, Greece
CATEGORIES:Θεσσαλονίκη
ATTACH;FMTTYPE=image/jpeg:https://manualtherapy.gr/wp-content/uploads/2020/12/Event-Demo-2.jpg
END:VEVENT
BEGIN:VEVENT
DTSTART;VALUE=DATE:20261126
DTEND;VALUE=DATE:20261129
DTSTAMP:20260425T185818
CREATED:20250924T101604Z
LAST-MODIFIED:20250924T101604Z
UID:8025-1795651200-1795910399@manualtherapy.gr
SUMMARY:G24 - ΣΕΜΙΝΑΡΙΟ ΑΘΛΗΤΙΚΗΣ ΦΥΣΙΚΟΘΕΡΑΠΕΙΑΣ
DESCRIPTION:G24 – ΣΕΜΙΝΑΡΙΟ ΑΘΛΗΤΙΚΗΣ ΦΥΣΙΚΟΘΕΡΑΠΕΙΑΣ
URL:https://manualtherapy.gr/events/g24-seminario-athlitikis-fysikotherapeias/
LOCATION:Θεσσαλονίκη\, 26ης Οκτωβρίου 86\, Θεσσαλονίκη\, 54627\, Greece
CATEGORIES:Θεσσαλονίκη
ATTACH;FMTTYPE=image/jpeg:https://manualtherapy.gr/wp-content/uploads/2021/01/Eisigites.jpg
END:VEVENT
BEGIN:VEVENT
DTSTART;VALUE=DATE:20261129
DTEND;VALUE=DATE:20261130
DTSTAMP:20260425T185818
CREATED:20250924T101709Z
LAST-MODIFIED:20250924T101709Z
UID:8027-1795910400-1795996799@manualtherapy.gr
SUMMARY:G24 - ΣΕΜΙΝΑΡΙΟ ΠΡΩΤΕΣ ΒΟΗΘΕΙΕΣ
DESCRIPTION:G24 – ΣΕΜΙΝΑΡΙΟ ΠΡΩΤΕΣ ΒΟΗΘΕΙΕΣ
URL:https://manualtherapy.gr/events/g24-seminario-protes-voitheies/
LOCATION:Θεσσαλονίκη\, 26ης Οκτωβρίου 86\, Θεσσαλονίκη\, 54627\, Greece
CATEGORIES:Θεσσαλονίκη
ATTACH;FMTTYPE=image/jpeg:https://manualtherapy.gr/wp-content/uploads/2021/01/Eisigites.jpg
END:VEVENT
BEGIN:VEVENT
DTSTART;VALUE=DATE:20261211
DTEND;VALUE=DATE:20261214
DTSTAMP:20260425T185818
CREATED:20250924T101907Z
LAST-MODIFIED:20250924T101907Z
UID:8029-1796947200-1797206399@manualtherapy.gr
SUMMARY:G26 - 1ο 3ΗΜΕΡΟ ΒΑΣΙΚΟ ΣΕΜΙΝΑΡΙΟ ΟΜΣΣ
DESCRIPTION:G26 – 1ο 3ΗΜΕΡΟ ΒΑΣΙΚΟ ΣΕΜΙΝΑΡΙΟ ΟΜΣΣ
URL:https://manualtherapy.gr/events/g26-1o-3imero-vasiko-seminario-omss/
LOCATION:Θεσσαλονίκη\, 26ης Οκτωβρίου 86\, Θεσσαλονίκη\, 54627\, Greece
CATEGORIES:Θεσσαλονίκη
ATTACH;FMTTYPE=image/jpeg:https://manualtherapy.gr/wp-content/uploads/2018/08/Events-Demo-1.jpg
END:VEVENT
BEGIN:VEVENT
DTSTART;VALUE=DATE:20261219
DTEND;VALUE=DATE:20261221
DTSTAMP:20260425T185818
CREATED:20250924T102242Z
LAST-MODIFIED:20250924T102242Z
UID:8035-1797638400-1797811199@manualtherapy.gr
SUMMARY:G25 - 2ο 2ΗΜΕΡΟ ΣΕΜΙΝΑΡΙΟ ΑDVANCE I
DESCRIPTION:G25 – 2ο 2ΗΜΕΡΟ ΣΕΜΙΝΑΡΙΟ ΑDVANCE I
URL:https://manualtherapy.gr/events/g25-2o-2imero-seminario-advance-i-2/
LOCATION:Θεσσαλονίκη\, 26ης Οκτωβρίου 86\, Θεσσαλονίκη\, 54627\, Greece
CATEGORIES:Θεσσαλονίκη
ATTACH;FMTTYPE=image/jpeg:https://manualtherapy.gr/wp-content/uploads/2021/01/DSC_0032.jpg
END:VEVENT
END:VCALENDAR