BEGIN:VCALENDAR
VERSION:2.0
PRODID:-//Manual Therapy - ECPv6.15.20//NONSGML v1.0//EN
CALSCALE:GREGORIAN
METHOD:PUBLISH
X-WR-CALNAME:Manual Therapy
X-ORIGINAL-URL:https://manualtherapy.gr
X-WR-CALDESC:Events for Manual Therapy
REFRESH-INTERVAL;VALUE=DURATION:PT1H
X-Robots-Tag:noindex
X-PUBLISHED-TTL:PT1H
BEGIN:VTIMEZONE
TZID:Europe/Athens
BEGIN:DAYLIGHT
TZOFFSETFROM:+0200
TZOFFSETTO:+0300
TZNAME:EEST
DTSTART:20250330T010000
END:DAYLIGHT
BEGIN:STANDARD
TZOFFSETFROM:+0300
TZOFFSETTO:+0200
TZNAME:EET
DTSTART:20251026T010000
END:STANDARD
BEGIN:DAYLIGHT
TZOFFSETFROM:+0200
TZOFFSETTO:+0300
TZNAME:EEST
DTSTART:20260329T010000
END:DAYLIGHT
BEGIN:STANDARD
TZOFFSETFROM:+0300
TZOFFSETTO:+0200
TZNAME:EET
DTSTART:20261025T010000
END:STANDARD
BEGIN:DAYLIGHT
TZOFFSETFROM:+0200
TZOFFSETTO:+0300
TZNAME:EEST
DTSTART:20270328T010000
END:DAYLIGHT
BEGIN:STANDARD
TZOFFSETFROM:+0300
TZOFFSETTO:+0200
TZNAME:EET
DTSTART:20271031T010000
END:STANDARD
END:VTIMEZONE
BEGIN:VEVENT
DTSTART;VALUE=DATE:20260109
DTEND;VALUE=DATE:20260112
DTSTAMP:20260425T235818
CREATED:20250924T085759Z
LAST-MODIFIED:20250924T090137Z
UID:7929-1767916800-1768175999@manualtherapy.gr
SUMMARY:G25 - 2ο 3ΗΜΕΡΟ ΒΑΣΙΚΟ ΣΕΜΙΝΑΡΙΟ ΟΜΣΣ
DESCRIPTION:G25 – 2ο 3ΗΜΕΡΟ ΒΑΣΙΚΟ ΣΕΜΙΝΑΡΙΟ ΟΜΣΣ
URL:https://manualtherapy.gr/events/g25-2o-3imero-vasiko-seminario-omss/
LOCATION:Θεσσαλονίκη\, 26ης Οκτωβρίου 86\, Θεσσαλονίκη\, 54627\, Greece
CATEGORIES:Θεσσαλονίκη
ATTACH;FMTTYPE=image/jpeg:https://manualtherapy.gr/wp-content/uploads/2020/12/Exams.jpg
END:VEVENT
END:VCALENDAR