BEGIN:VCALENDAR
VERSION:2.0
PRODID:-//Manual Therapy - ECPv6.15.20//NONSGML v1.0//EN
CALSCALE:GREGORIAN
METHOD:PUBLISH
X-WR-CALNAME:Manual Therapy
X-ORIGINAL-URL:https://manualtherapy.gr
X-WR-CALDESC:Events for Manual Therapy
REFRESH-INTERVAL;VALUE=DURATION:PT1H
X-Robots-Tag:noindex
X-PUBLISHED-TTL:PT1H
BEGIN:VTIMEZONE
TZID:Europe/Athens
BEGIN:DAYLIGHT
TZOFFSETFROM:+0200
TZOFFSETTO:+0300
TZNAME:EEST
DTSTART:20240331T010000
END:DAYLIGHT
BEGIN:STANDARD
TZOFFSETFROM:+0300
TZOFFSETTO:+0200
TZNAME:EET
DTSTART:20241027T010000
END:STANDARD
BEGIN:DAYLIGHT
TZOFFSETFROM:+0200
TZOFFSETTO:+0300
TZNAME:EEST
DTSTART:20250330T010000
END:DAYLIGHT
BEGIN:STANDARD
TZOFFSETFROM:+0300
TZOFFSETTO:+0200
TZNAME:EET
DTSTART:20251026T010000
END:STANDARD
BEGIN:DAYLIGHT
TZOFFSETFROM:+0200
TZOFFSETTO:+0300
TZNAME:EEST
DTSTART:20260329T010000
END:DAYLIGHT
BEGIN:STANDARD
TZOFFSETFROM:+0300
TZOFFSETTO:+0200
TZNAME:EET
DTSTART:20261025T010000
END:STANDARD
END:VTIMEZONE
BEGIN:VEVENT
DTSTART;VALUE=DATE:20251130
DTEND;VALUE=DATE:20251201
DTSTAMP:20260426T024146
CREATED:20250317T153907Z
LAST-MODIFIED:20250317T153907Z
UID:7887-1764460800-1764547199@manualtherapy.gr
SUMMARY:ΣΕΜΙΝΑΡΙΟ ΠΡΩΤΩΝ ΒΟΗΘΕΙΩΝ
DESCRIPTION:ΣΕΜΙΝΑΡΙΟ ΠΡΩΤΩΝ ΒΟΗΘΕΙΩΝ
URL:https://manualtherapy.gr/events/seminario-proton-voitheion-3/
LOCATION:Θεσσαλονίκη\, 26ης Οκτωβρίου 86\, Θεσσαλονίκη\, 54627\, Greece
CATEGORIES:Θεσσαλονίκη
ATTACH;FMTTYPE=image/jpeg:https://manualtherapy.gr/wp-content/uploads/2021/01/Eisigites.jpg
END:VEVENT
END:VCALENDAR