BEGIN:VCALENDAR
VERSION:2.0
PRODID:-//Manual Therapy - ECPv6.15.20//NONSGML v1.0//EN
CALSCALE:GREGORIAN
METHOD:PUBLISH
X-WR-CALNAME:Manual Therapy
X-ORIGINAL-URL:https://manualtherapy.gr
X-WR-CALDESC:Events for Manual Therapy
REFRESH-INTERVAL;VALUE=DURATION:PT1H
X-Robots-Tag:noindex
X-PUBLISHED-TTL:PT1H
BEGIN:VTIMEZONE
TZID:Europe/Athens
BEGIN:DAYLIGHT
TZOFFSETFROM:+0200
TZOFFSETTO:+0300
TZNAME:EEST
DTSTART:20250330T010000
END:DAYLIGHT
BEGIN:STANDARD
TZOFFSETFROM:+0300
TZOFFSETTO:+0200
TZNAME:EET
DTSTART:20251026T010000
END:STANDARD
BEGIN:DAYLIGHT
TZOFFSETFROM:+0200
TZOFFSETTO:+0300
TZNAME:EEST
DTSTART:20260329T010000
END:DAYLIGHT
BEGIN:STANDARD
TZOFFSETFROM:+0300
TZOFFSETTO:+0200
TZNAME:EET
DTSTART:20261025T010000
END:STANDARD
BEGIN:DAYLIGHT
TZOFFSETFROM:+0200
TZOFFSETTO:+0300
TZNAME:EEST
DTSTART:20270328T010000
END:DAYLIGHT
BEGIN:STANDARD
TZOFFSETFROM:+0300
TZOFFSETTO:+0200
TZNAME:EET
DTSTART:20271031T010000
END:STANDARD
END:VTIMEZONE
BEGIN:VEVENT
DTSTART;VALUE=DATE:20260228
DTEND;VALUE=DATE:20260302
DTSTAMP:20260425T185050
CREATED:20251127T115917Z
LAST-MODIFIED:20251127T115917Z
UID:8124-1772236800-1772409599@manualtherapy.gr
SUMMARY:2ο 2ΗΜΕΡΟ ΣΕΜΙΝΑΡΙΟ ΑΝΩ ΑΚΡΟ
DESCRIPTION:
URL:https://manualtherapy.gr/events/2o-2imero-seminario-ano-akro/
LOCATION:Αθήνα\, Κρέμου 27\, Καλλιθέα\, 17676\, Greece
CATEGORIES:Αθήνα
ATTACH;FMTTYPE=image/jpeg:https://manualtherapy.gr/wp-content/uploads/2025/11/Events-Demo-1-zIROv9.jpg
END:VEVENT
BEGIN:VEVENT
DTSTART;VALUE=DATE:20260306
DTEND;VALUE=DATE:20260309
DTSTAMP:20260425T185050
CREATED:20250924T092640Z
LAST-MODIFIED:20250924T092640Z
UID:7956-1772755200-1773014399@manualtherapy.gr
SUMMARY:G25 - 1o 3ΗΜΕΡΟ ΒΑΣΙΚΟ ΣΕΜΙΝΑΡΙΟ ΑΜΣΣ
DESCRIPTION:G25 – 1o 3ΗΜΕΡΟ ΒΑΣΙΚΟ ΣΕΜΙΝΑΡΙΟ ΑΜΣΣ
URL:https://manualtherapy.gr/events/g25-1o-3imero-vasiko-seminario-amss/
LOCATION:Αθήνα\, Κρέμου 27\, Καλλιθέα\, 17676\, Greece
CATEGORIES:Αθήνα
ATTACH;FMTTYPE=image/jpeg:https://manualtherapy.gr/wp-content/uploads/2021/01/Registration.jpg
END:VEVENT
BEGIN:VEVENT
DTSTART;VALUE=DATE:20260325
DTEND;VALUE=DATE:20260327
DTSTAMP:20260425T185050
CREATED:20250924T092926Z
LAST-MODIFIED:20251127T090925Z
UID:7960-1774396800-1774569599@manualtherapy.gr
SUMMARY:G23 - ΣΕΜΙΝΑΡΙΟ ΧΕΙΡΙΣΜΟΙ ΑΜΣΣ (ΜΑΝΙΡ ΙV)
DESCRIPTION:G23 – ΣΕΜΙΝΑΡΙΟ ΧΕΙΡΙΣΜΟΙ ΑΜΣΣ (ΜΑΝΙΡ ΙV)
URL:https://manualtherapy.gr/events/g23-seminario-cheirismoi-amss-manir-iv/
LOCATION:Αθήνα\, Κρέμου 27\, Καλλιθέα\, 17676\, Greece
CATEGORIES:Αθήνα
ATTACH;FMTTYPE=image/jpeg:https://manualtherapy.gr/wp-content/uploads/2018/08/Events-Demo-1.jpg
END:VEVENT
BEGIN:VEVENT
DTSTART;VALUE=DATE:20260327
DTEND;VALUE=DATE:20260330
DTSTAMP:20260425T185050
CREATED:20251127T090843Z
LAST-MODIFIED:20251127T090843Z
UID:8108-1774569600-1774828799@manualtherapy.gr
SUMMARY:G23 - ΣΕΜΙΝΑΡΙΟ ΑΞΙΟΛΟΓΗΣΗΣ ΚΑΙ ΔΙΑΧΕΙΡΙΣΗΣ ΠΟΝΟΥ
DESCRIPTION:G23 – ΣΕΜΙΝΑΡΙΟ ΑΞΙΟΛΟΓΗΣΗΣ ΚΑΙ ΔΙΑΧΕΙΡΙΣΗΣ ΠΟΝΟΥ
URL:https://manualtherapy.gr/events/g23-seminario-axiologisis-kai-diacheirisis-ponoy/
LOCATION:Αθήνα\, Κρέμου 27\, Καλλιθέα\, 17676\, Greece
CATEGORIES:Αθήνα
ATTACH;FMTTYPE=image/jpeg:https://manualtherapy.gr/wp-content/uploads/2021/01/DSC_0032.jpg
END:VEVENT
END:VCALENDAR