BEGIN:VCALENDAR
VERSION:2.0
PRODID:-//Manual Therapy - ECPv6.15.20//NONSGML v1.0//EN
CALSCALE:GREGORIAN
METHOD:PUBLISH
X-ORIGINAL-URL:https://manualtherapy.gr
X-WR-CALDESC:Events for Manual Therapy
REFRESH-INTERVAL;VALUE=DURATION:PT1H
X-Robots-Tag:noindex
X-PUBLISHED-TTL:PT1H
BEGIN:VTIMEZONE
TZID:Europe/Athens
BEGIN:DAYLIGHT
TZOFFSETFROM:+0200
TZOFFSETTO:+0300
TZNAME:EEST
DTSTART:20240331T010000
END:DAYLIGHT
BEGIN:STANDARD
TZOFFSETFROM:+0300
TZOFFSETTO:+0200
TZNAME:EET
DTSTART:20241027T010000
END:STANDARD
BEGIN:DAYLIGHT
TZOFFSETFROM:+0200
TZOFFSETTO:+0300
TZNAME:EEST
DTSTART:20250330T010000
END:DAYLIGHT
BEGIN:STANDARD
TZOFFSETFROM:+0300
TZOFFSETTO:+0200
TZNAME:EET
DTSTART:20251026T010000
END:STANDARD
BEGIN:DAYLIGHT
TZOFFSETFROM:+0200
TZOFFSETTO:+0300
TZNAME:EEST
DTSTART:20260329T010000
END:DAYLIGHT
BEGIN:STANDARD
TZOFFSETFROM:+0300
TZOFFSETTO:+0200
TZNAME:EET
DTSTART:20261025T010000
END:STANDARD
END:VTIMEZONE
BEGIN:VEVENT
DTSTART;VALUE=DATE:20251115
DTEND;VALUE=DATE:20251117
DTSTAMP:20260426T024017
CREATED:20250317T153548Z
LAST-MODIFIED:20250317T153548Z
UID:7883-1763164800-1763337599@manualtherapy.gr
SUMMARY:2ο 2ΗΜΕΡΟ ΣΕΜΙΝΑΡΙΟ ΑDVANCEI
DESCRIPTION:2ο 2ΗΜΕΡΟ ΣΕΜΙΝΑΡΙΟ ΑDVANCEI
URL:https://manualtherapy.gr/events/2o-2imero-seminario-advancei-2/
LOCATION:Αθήνα\, Κρέμου 27\, Καλλιθέα\, 17676\, Greece
CATEGORIES:Αθήνα
ATTACH;FMTTYPE=image/jpeg:https://manualtherapy.gr/wp-content/uploads/2018/08/Events-Demo-1.jpg
END:VEVENT
END:VCALENDAR